BEGIN:VCALENDAR
VERSION:2.0
PRODID:-//Putnam Hill Nursery - ECPv6.15.20//NONSGML v1.0//EN
CALSCALE:GREGORIAN
METHOD:PUBLISH
X-WR-CALNAME:Putnam Hill Nursery
X-ORIGINAL-URL:https://putnamhillnursery.com
X-WR-CALDESC:Events for Putnam Hill Nursery
REFRESH-INTERVAL;VALUE=DURATION:PT1H
X-Robots-Tag:noindex
X-PUBLISHED-TTL:PT1H
BEGIN:VTIMEZONE
TZID:America/New_York
BEGIN:DAYLIGHT
TZOFFSETFROM:-0500
TZOFFSETTO:-0400
TZNAME:EDT
DTSTART:20250309T070000
END:DAYLIGHT
BEGIN:STANDARD
TZOFFSETFROM:-0400
TZOFFSETTO:-0500
TZNAME:EST
DTSTART:20251102T060000
END:STANDARD
BEGIN:DAYLIGHT
TZOFFSETFROM:-0500
TZOFFSETTO:-0400
TZNAME:EDT
DTSTART:20260308T070000
END:DAYLIGHT
BEGIN:STANDARD
TZOFFSETFROM:-0400
TZOFFSETTO:-0500
TZNAME:EST
DTSTART:20261101T060000
END:STANDARD
BEGIN:DAYLIGHT
TZOFFSETFROM:-0500
TZOFFSETTO:-0400
TZNAME:EDT
DTSTART:20270314T070000
END:DAYLIGHT
BEGIN:STANDARD
TZOFFSETFROM:-0400
TZOFFSETTO:-0500
TZNAME:EST
DTSTART:20271107T060000
END:STANDARD
END:VTIMEZONE
BEGIN:VEVENT
DTSTART;TZID=America/New_York:20260502T080000
DTEND;TZID=America/New_York:20260502T160000
DTSTAMP:20260423T102459
CREATED:20260213T011549Z
LAST-MODIFIED:20260213T011549Z
UID:8406-1777708800-1777737600@putnamhillnursery.com
SUMMARY:Ladew Garden Festival
DESCRIPTION:the Mid-Atlantic’s Premier Plant and Garden Antique Festival\nNow in its 18th year\, Ladew’s annual Garden Festival has become the most anticipated specialty plant\, garden ornaments\, and antiques sale in the region. Over the years our vendors have offered hard-to-find perennials and annuals\, unusual exotics and container specialties\, decorative garden furniture\, urns\, statuary\, and other architectural treasures. \n\n\n\n\n\n\n\n\nTicket proceeds from Garden Festival\, Ladew’s longest running fundraising event of the year\, go directly to the preservation of the 22-acre historic topiary gardens\, historic Manor House\, the native Butterfly House\, the Children’s Environmental Education Program that serves nearly 4\,000 children each year\, and the array of over 100 events and educational programs offered to the community.
URL:https://putnamhillnursery.com/event/ladew-garden-festival-6/
LOCATION:Ladew Gardens\, 3535 Jarrettsville Pike\, Monkton\, MD\, 21111\, United States
END:VEVENT
BEGIN:VEVENT
DTSTART;TZID=America/New_York:20260502T083000
DTEND;TZID=America/New_York:20260502T180000
DTSTAMP:20260423T102459
CREATED:20260213T020009Z
LAST-MODIFIED:20260213T020009Z
UID:8408-1777710600-1777744800@putnamhillnursery.com
SUMMARY:MD Sheep and Wool Festival
DESCRIPTION:The Maryland Sheep & Wool Festival is one of the largest festivals of its kind celebrating all things sheep\, from hoof to handwoven.\nPutnam Hill will be offering dye and fiber plants as well as native and non native perennials for sun and shade.
URL:https://putnamhillnursery.com/event/md-sheep-and-wool-festival-2/
LOCATION:Howard County Fairgrounds\, West Friendship\, MD\, United States
END:VEVENT
BEGIN:VEVENT
DTSTART;TZID=America/New_York:20260503T083000
DTEND;TZID=America/New_York:20260503T170000
DTSTAMP:20260423T102459
CREATED:20260213T020238Z
LAST-MODIFIED:20260213T020238Z
UID:8410-1777797000-1777827600@putnamhillnursery.com
SUMMARY:MD Sheep and Wool
DESCRIPTION:The Maryland Sheep & Wool Festival is one of the largest festivals of its kind celebrating all things sheep\, from hoof to handwoven.\nPutnam Hill will be offering dye and fiber plants as well as native and non native perennials for sun and shade.
URL:https://putnamhillnursery.com/event/md-sheep-and-wool/
LOCATION:Howard County Fairgrounds\, West Friendship\, MD\, United States
END:VEVENT
BEGIN:VEVENT
DTSTART;TZID=America/New_York:20260509T080000
DTEND;TZID=America/New_York:20260509T140000
DTSTAMP:20260423T102459
CREATED:20260213T023441Z
LAST-MODIFIED:20260213T023441Z
UID:8412-1778313600-1778335200@putnamhillnursery.com
SUMMARY:Cylburn Arboretum Market Day
DESCRIPTION:
URL:https://putnamhillnursery.com/event/cylburn-arboretum-market-day-3/
LOCATION:Cylburn Arboretum Association\, 4915 Greenspring Ave\, Baltimore\, MD\, 21209\, United States
END:VEVENT
END:VCALENDAR